BEGIN:VCALENDAR
VERSION:2.0
PRODID:-//Sensei Lindgren&#039;s Okinawa-Te Page - ECPv6.3.2//NONSGML v1.0//EN
CALSCALE:GREGORIAN
METHOD:PUBLISH
X-WR-CALNAME:Sensei Lindgren&#039;s Okinawa-Te Page
X-ORIGINAL-URL:https://okinawa-te.info
X-WR-CALDESC:Events for Sensei Lindgren&#039;s Okinawa-Te Page
REFRESH-INTERVAL;VALUE=DURATION:PT1H
X-Robots-Tag:noindex
X-PUBLISHED-TTL:PT1H
BEGIN:VTIMEZONE
TZID:UTC
BEGIN:STANDARD
TZOFFSETFROM:+0000
TZOFFSETTO:+0000
TZNAME:UTC
DTSTART:20230101T000000
END:STANDARD
END:VTIMEZONE
BEGIN:VEVENT
DTSTART;VALUE=DATE:20250201
DTEND;VALUE=DATE:20250202
DTSTAMP:20260422T215905
CREATED:20250103T202419Z
LAST-MODIFIED:20250103T202419Z
UID:6791-1738368000-1738454399@okinawa-te.info
SUMMARY:Mid-Atlantic Challenge
DESCRIPTION:Donate Crypto-currency \n			\n			\n			\n\n			\n			\n			\n			\n			\n			Wallet address of bitcoin\n			13JDhP1YScpJosCbkXwWUeS
URL:https://okinawa-te.info/event/mid-atlantic-challenge/
LOCATION:Sp;it Rock Resort\, 428 Moseywood Road\, Lake Harmony\, PA\, 18624\, United States
ORGANIZER;CN="Kyle and Chuck Reed":MAILTO:themidatlanticchallenge@gmail.com
END:VEVENT
BEGIN:VEVENT
DTSTART;VALUE=DATE:20250126
DTEND;VALUE=DATE:20250127
DTSTAMP:20260422T215905
CREATED:20250113T200337Z
LAST-MODIFIED:20250113T200337Z
UID:6823-1737849600-1737935999@okinawa-te.info
SUMMARY:NJ Martial Arts Invitational Tournament Kickoff Championship
DESCRIPTION:Donate Crypto-currency \n			\n			\n			\n\n			\n			\n			\n			\n			\n			Wallet address of bitcoin\n			13JDhP1YScpJosCbkXwWUeS
URL:https://okinawa-te.info/event/nj-martial-arts-invitational-tournament-kickoff-championship/
LOCATION:Pure MMA\, 41 Pine St.\, Rockaway\, NJ\, 07866\, United States
END:VEVENT
BEGIN:VEVENT
DTSTART;VALUE=DATE:20250126
DTEND;VALUE=DATE:20250127
DTSTAMP:20260422T215905
CREATED:20241130T163548Z
LAST-MODIFIED:20241130T163548Z
UID:6711-1737849600-1737935999@okinawa-te.info
SUMMARY:Illinois State Karate Championships
DESCRIPTION:Donate Crypto-currency \n			\n			\n			\n\n			\n			\n			\n			\n			\n			Wallet address of bitcoin\n			13JDhP1YScpJosCbkXwWUeS
URL:https://okinawa-te.info/event/illinois-state-karate-championships-2/
LOCATION:Aurora Turners Gymnasium\, 1335 Mitchell Road\, Aurora\, 60505\, United States
END:VEVENT
BEGIN:VEVENT
DTSTART;VALUE=DATE:20241109
DTEND;VALUE=DATE:20241110
DTSTAMP:20260422T215905
CREATED:20240920T150402Z
LAST-MODIFIED:20240920T150402Z
UID:6653-1731110400-1731196799@okinawa-te.info
SUMMARY:Dillsburg Karate Academy Open Martial Arts Championship
DESCRIPTION:Donate Crypto-currency \n			\n			\n			\n\n			\n			\n			\n			\n			\n			Wallet address of bitcoin\n			13JDhP1YScpJosCbkXwWUeS
URL:https://okinawa-te.info/event/dillsburg-karate-academy-open-martial-arts-championship/
LOCATION:Monaghan Township Fire Hall\, 245 W\, Siddonsburg Rd\, Dillsburg\, PA\, 17019\, United States
END:VEVENT
BEGIN:VEVENT
DTSTART;VALUE=DATE:20241102
DTEND;VALUE=DATE:20241103
DTSTAMP:20260422T215905
CREATED:20241017T173002Z
LAST-MODIFIED:20241017T173002Z
UID:6660-1730505600-1730591999@okinawa-te.info
SUMMARY:Day with the Masters
DESCRIPTION:Donate Crypto-currency \n			\n			\n			\n\n			\n			\n			\n			\n			\n			Wallet address of bitcoin\n			13JDhP1YScpJosCbkXwWUeS
URL:https://okinawa-te.info/event/day-with-the-masters/
LOCATION:Red Oaks School\, 238 Speedwell Ave\, Morris Plains\, NJ\, 07950\, United States
END:VEVENT
BEGIN:VEVENT
DTSTART;VALUE=DATE:20241027
DTEND;VALUE=DATE:20241030
DTSTAMP:20260422T215905
CREATED:20241017T173916Z
LAST-MODIFIED:20241017T173916Z
UID:6664-1729987200-1730246399@okinawa-te.info
SUMMARY:International Martial Arts Festival
DESCRIPTION:Donate Crypto-currency \n			\n			\n			\n\n			\n			\n			\n			\n			\n			Wallet address of bitcoin\n			13JDhP1YScpJosCbkXwWUeS
URL:https://okinawa-te.info/event/international-martial-arts-festival-2/
LOCATION:Wyndam Orlando Resort\, 8001 International Drive\, Orlando\, FL\, 32819\, United States
END:VEVENT
BEGIN:VEVENT
DTSTART;VALUE=DATE:20241012
DTEND;VALUE=DATE:20241013
DTSTAMP:20260422T215905
CREATED:20240920T145325Z
LAST-MODIFIED:20240920T145325Z
UID:6650-1728691200-1728777599@okinawa-te.info
SUMMARY:Transformers Martial Arts Tournament
DESCRIPTION:Donate Crypto-currency \n			\n			\n			\n\n			\n			\n			\n			\n			\n			Wallet address of bitcoin\n			13JDhP1YScpJosCbkXwWUeS
URL:https://okinawa-te.info/event/transformers-martial-arts-tournament/
LOCATION:1100 McCarter Highway\, 1100 McCarter Highway\, Newark\, NJ\, United States
END:VEVENT
BEGIN:VEVENT
DTSTART;VALUE=DATE:20241012
DTEND;VALUE=DATE:20241013
DTSTAMP:20260422T215905
CREATED:20240420T145315Z
LAST-MODIFIED:20240420T145315Z
UID:6374-1728691200-1728777599@okinawa-te.info
SUMMARY:Grandmaster Toby Cooling Memorial Tournament
DESCRIPTION:Donate Crypto-currency \n			\n			\n			\n\n			\n			\n			\n			\n			\n			Wallet address of bitcoin\n			13JDhP1YScpJosCbkXwWUeS
URL:https://okinawa-te.info/event/grandmaster-toby-cooling-memorial-tournament-2/
LOCATION:CO
END:VEVENT
BEGIN:VEVENT
DTSTART;VALUE=DATE:20240713
DTEND;VALUE=DATE:20240714
DTSTAMP:20260422T215905
CREATED:20240420T150725Z
LAST-MODIFIED:20240420T150725Z
UID:6376-1720828800-1720915199@okinawa-te.info
SUMMARY:Kazoku Isan Dojo 1st Annual Summer Open Traditional Martial Arts Tournament
DESCRIPTION:Donate Crypto-currency \n			\n			\n			\n\n			\n			\n			\n			\n			\n			Wallet address of bitcoin\n			13JDhP1YScpJosCbkXwWUeS
URL:https://okinawa-te.info/event/kazoku-isan-dojo-1st-annual-summer-open-traditional-martial-arts-tournament/
LOCATION:Baughman United Mehodist Church\, 228 Bridge St\, New Cumberland\, PA\, 17070\, United States
ORGANIZER;CN="Kazoku Isan Dojo":MAILTO:info@isandojo.com
END:VEVENT
BEGIN:VEVENT
DTSTART;VALUE=DATE:20240702
DTEND;VALUE=DATE:20240707
DTSTAMP:20260422T215905
CREATED:20240420T143739Z
LAST-MODIFIED:20240420T143739Z
UID:6368-1719878400-1720310399@okinawa-te.info
SUMMARY:2024 AAU Karate Nationals
DESCRIPTION:Donate Crypto-currency \n			\n			\n			\n\n			\n			\n			\n			\n			\n			Wallet address of bitcoin\n			13JDhP1YScpJosCbkXwWUeS
URL:https://okinawa-te.info/event/2024-aau-karate-nationals/
LOCATION:Broward County Convention  Center\, Fort Lauderdale\, FL\, United States
ORGANIZER;CN="AAU Karate":MAILTO:UCSDKarate@gmail.com
END:VEVENT
BEGIN:VEVENT
DTSTART;VALUE=DATE:20240607
DTEND;VALUE=DATE:20240609
DTSTAMP:20260422T215905
CREATED:20240420T144755Z
LAST-MODIFIED:20240420T144755Z
UID:6370-1717718400-1717891199@okinawa-te.info
SUMMARY:LeClerc's International Martial Arts Championship
DESCRIPTION:Donate Crypto-currency \n			\n			\n			\n\n			\n			\n			\n			\n			\n			Wallet address of bitcoin\n			13JDhP1YScpJosCbkXwWUeS
URL:https://okinawa-te.info/event/leclercs-international-martial-arts-championship/
LOCATION:Hudson Valley Sports Dome\, 240 Milton Turnpike\, Milton\, NY\, 12547\, United States
END:VEVENT
BEGIN:VEVENT
DTSTART;VALUE=DATE:20240525
DTEND;VALUE=DATE:20240527
DTSTAMP:20260422T215905
CREATED:20240420T160318Z
LAST-MODIFIED:20240420T160318Z
UID:6380-1716595200-1716767999@okinawa-te.info
SUMMARY:AAU So Cal Super Regional Karate Tournament
DESCRIPTION:Donate Crypto-currency \n			\n			\n			\n\n			\n			\n			\n			\n			\n			Wallet address of bitcoin\n			13JDhP1YScpJosCbkXwWUeS
URL:https://okinawa-te.info/event/aau-so-cal-super-regional-karate-tournament-2/
LOCATION:UCSD  RIMAC Arena\, 9730 Hopkins Drive\, La Jolla\, CA\, 92093\, United States
ORGANIZER;CN="AAU Karate":MAILTO:UCSDKarate@gmail.com
END:VEVENT
BEGIN:VEVENT
DTSTART;TZID=UTC:20240421T080000
DTEND;TZID=UTC:20240421T170000
DTSTAMP:20260422T215905
CREATED:20240210T165403Z
LAST-MODIFIED:20240210T165403Z
UID:5796-1713686400-1713718800@okinawa-te.info
SUMMARY:AAU Mid-Atlantic Karate Championship 2024
DESCRIPTION:Donate Crypto-currency \n			\n			\n			\n\n			\n			\n			\n			\n			\n			Wallet address of bitcoin\n			13JDhP1YScpJosCbkXwWUeS
URL:https://okinawa-te.info/event/aau-mid-atlantic-karate-championship-2024/
LOCATION:Bangor High School\, 187 Five Points Richmond Rd\, Bangor\, PA\, 18013\, United States
ORGANIZER;CN="AAU Karate":MAILTO:UCSDKarate@gmail.com
END:VEVENT
BEGIN:VEVENT
DTSTART;VALUE=DATE:20240420
DTEND;VALUE=DATE:20240421
DTSTAMP:20260422T215905
CREATED:20231204T164228Z
LAST-MODIFIED:20231204T164228Z
UID:5710-1713571200-1713657599@okinawa-te.info
SUMMARY:Women's Martial Arts Symposium
DESCRIPTION:Donate Crypto-currency \n			\n			\n			\n\n			\n			\n			\n			\n			\n			Wallet address of bitcoin\n			13JDhP1YScpJosCbkXwWUeS
URL:https://okinawa-te.info/event/womens-martial-arts-symposium/
LOCATION:ISR Honbu Dojo\, 55 Parsonage Rd\, Edison\, NJ\, United States
END:VEVENT
BEGIN:VEVENT
DTSTART;VALUE=DATE:20240414
DTEND;VALUE=DATE:20240415
DTSTAMP:20260422T215905
CREATED:20240409T162121Z
LAST-MODIFIED:20240409T162121Z
UID:6319-1713052800-1713139199@okinawa-te.info
SUMMARY:Midwest League of Champions
DESCRIPTION:Donate Crypto-currency \n			\n			\n			\n\n			\n			\n			\n			\n			\n			Wallet address of bitcoin\n			13JDhP1YScpJosCbkXwWUeS
URL:https://okinawa-te.info/event/midwest-league-of-champions/
LOCATION:Aurora Turners Club\, 1335 Mitchell Road\, Aurora\, 60505\, United States
END:VEVENT
BEGIN:VEVENT
DTSTART;VALUE=DATE:20240406
DTEND;VALUE=DATE:20240407
DTSTAMP:20260422T215905
CREATED:20231130T235221Z
LAST-MODIFIED:20240117T000831Z
UID:5707-1712361600-1712447999@okinawa-te.info
SUMMARY:Ralph B. Chirico Memorial Tournament
DESCRIPTION:Please support this tournament. In the Spirit of Bushido\, all proceeds from this 2024 Tournament will be donated to Master Alick Smith Jr. to help defray his medical bills and other rehabilitation needs. He recently suffered a severe\, work-related debilitating back injury. \n \n			\n			\n			 Donate Crypto-currency \n			\n			\n			\n\n			\n			\n			\n			\n			\n			Wallet address of bitcoin\n			13JDhP1YScpJosCbkXwWUeS
URL:https://okinawa-te.info/event/ralph-b-chirico-memorial-tournament-2/
LOCATION:St. Demetrius Center\, 691 Roosevelt Avenue\, Carteret\, NJ\, 07008\, United States
END:VEVENT
BEGIN:VEVENT
DTSTART;VALUE=DATE:20240329
DTEND;VALUE=DATE:20240401
DTSTAMP:20260422T215905
CREATED:20231207T164211Z
LAST-MODIFIED:20231207T164606Z
UID:5713-1711670400-1711929599@okinawa-te.info
SUMMARY:North American Open International Karate Tournament
DESCRIPTION:Donate Crypto-currency \n			\n			\n			\n\n			\n			\n			\n			\n			\n			Wallet address of bitcoin\n			13JDhP1YScpJosCbkXwWUeS
URL:https://okinawa-te.info/event/north-american-open-international-karate-tournament/
LOCATION:Horseshoe Las Vegas\, 3645 Las Vegas Blvd\, Las Vegas\, NV\, 89109\, United States
ORGANIZER;CN="AAU Karate":MAILTO:UCSDKarate@gmail.com
END:VEVENT
BEGIN:VEVENT
DTSTART;VALUE=DATE:20240310
DTEND;VALUE=DATE:20240311
DTSTAMP:20260422T215905
CREATED:20240210T164350Z
LAST-MODIFIED:20240210T164350Z
UID:5790-1710028800-1710115199@okinawa-te.info
SUMMARY:City of Lights Martial Arts Championship
DESCRIPTION:Donate Crypto-currency \n			\n			\n			\n\n			\n			\n			\n			\n			\n			Wallet address of bitcoin\n			13JDhP1YScpJosCbkXwWUeS
URL:https://okinawa-te.info/event/city-of-lights-martial-arts-championship/
LOCATION:Aurora Turners Gymnasium\, 1335 Mitchell Road\, Aurora\, 60505\, United States
END:VEVENT
BEGIN:VEVENT
DTSTART;VALUE=DATE:20240309
DTEND;VALUE=DATE:20240310
DTSTAMP:20260422T215905
CREATED:20240210T164921Z
LAST-MODIFIED:20240210T164921Z
UID:5793-1709942400-1710028799@okinawa-te.info
SUMMARY:25th Annual Warrior of God Martial Arts Championships
DESCRIPTION:Donate Crypto-currency \n			\n			\n			\n\n			\n			\n			\n			\n			\n			Wallet address of bitcoin\n			13JDhP1YScpJosCbkXwWUeS
URL:https://okinawa-te.info/event/25th-annual-warrior-of-god-martial-arts-championships/
LOCATION:Hallsville High School\, 616 Cal Young Rd\, Hallsville\, TX\, 75650\, United States
END:VEVENT
BEGIN:VEVENT
DTSTART;VALUE=DATE:20240218
DTEND;VALUE=DATE:20240219
DTSTAMP:20260422T215905
CREATED:20240210T163525Z
LAST-MODIFIED:20240210T163525Z
UID:5788-1708214400-1708300799@okinawa-te.info
SUMMARY:CKS Open Martial Arts Tournament
DESCRIPTION:Donate Crypto-currency \n			\n			\n			\n\n			\n			\n			\n			\n			\n			Wallet address of bitcoin\n			13JDhP1YScpJosCbkXwWUeS
URL:https://okinawa-te.info/event/cks-open-martial-arts-tournament-2/
LOCATION:Aurora Turners Gymnasium\, 1335 Mitchell Road\, Aurora\, 60505\, United States
ORGANIZER;CN="Rocky's Dojo and Gym":MAILTO:rockysdojoandgym@att.net
END:VEVENT
BEGIN:VEVENT
DTSTART;VALUE=DATE:20240114
DTEND;VALUE=DATE:20240115
DTSTAMP:20260422T215905
CREATED:20231114T164505Z
LAST-MODIFIED:20231114T164505Z
UID:5694-1705190400-1705276799@okinawa-te.info
SUMMARY:Midwest League of Champions Open Martial Arts Tournament
DESCRIPTION:Donate Crypto-currency \n			\n			\n			\n\n			\n			\n			\n			\n			\n			Wallet address of bitcoin\n			13JDhP1YScpJosCbkXwWUeS
URL:https://okinawa-te.info/event/midwest-league-of-champions-open-martial-arts-tournament/
LOCATION:Aurora Turners Gymnasium\, 1335 Mitchell Road\, Aurora\, 60505\, United States
END:VEVENT
BEGIN:VEVENT
DTSTART;VALUE=DATE:20231116
DTEND;VALUE=DATE:20231121
DTSTAMP:20260422T215905
CREATED:20230204T201818Z
LAST-MODIFIED:20230204T201818Z
UID:4722-1700092800-1700524799@okinawa-te.info
SUMMARY:16th World Wushu Championships
DESCRIPTION:Donate Crypto-currency \n			\n			\n			\n\n			\n			\n			\n			\n			\n			Wallet address of bitcoin\n			13JDhP1YScpJosCbkXwWUeS
URL:https://okinawa-te.info/event/16th-world-wushu-championships/
LOCATION:Fort Worth Convention Center\, 1201 Houston Street\, Fort Worth\, TX\, 76102\, United States
END:VEVENT
BEGIN:VEVENT
DTSTART;VALUE=DATE:20231104
DTEND;VALUE=DATE:20231105
DTSTAMP:20260422T215905
CREATED:20231010T231932Z
LAST-MODIFIED:20231011T011545Z
UID:5593-1699056000-1699142399@okinawa-te.info
SUMMARY:American Isshinryu Day with the Masters
DESCRIPTION:Donate Crypto-currency \n			\n			\n			\n\n			\n			\n			\n			\n			\n			Wallet address of bitcoin\n			13JDhP1YScpJosCbkXwWUeS
URL:https://okinawa-te.info/event/american-isshinryu-day-with-the-masters/
LOCATION:Red Oak School\, 238 Speedwell Ave\, Morris Plains\, 07950\, United States
END:VEVENT
BEGIN:VEVENT
DTSTART;VALUE=DATE:20231029
DTEND;VALUE=DATE:20231030
DTSTAMP:20260422T215905
CREATED:20230617T175458Z
LAST-MODIFIED:20230617T175458Z
UID:4986-1698537600-1698623999@okinawa-te.info
SUMMARY:Hawaii Pacific Regionals
DESCRIPTION:Donate Crypto-currency \n			\n			\n			\n\n			\n			\n			\n			\n			\n			Wallet address of bitcoin\n			13JDhP1YScpJosCbkXwWUeS
URL:https://okinawa-te.info/event/hawaii-pacific-regionals/
LOCATION:Palama Settlement Gym\, 810 N Vineyard Blvd\, Honolulu\, HI\, 96817\, United States
END:VEVENT
BEGIN:VEVENT
DTSTART;VALUE=DATE:20231027
DTEND;VALUE=DATE:20231030
DTSTAMP:20260422T215905
CREATED:20230807T161424Z
LAST-MODIFIED:20230807T161424Z
UID:5211-1698364800-1698623999@okinawa-te.info
SUMMARY:International Martial Arts Festival
DESCRIPTION:Donate Crypto-currency \n			\n			\n			\n\n			\n			\n			\n			\n			\n			Wallet address of bitcoin\n			13JDhP1YScpJosCbkXwWUeS
URL:https://okinawa-te.info/event/international-martial-arts-festival/
LOCATION:Wyndam Orlando Resort\, 8001 International Drive\, Orlando\, FL\, 32819\, United States
ORGANIZER;CN="USA Sport Karate":MAILTO:info@usasportkarate.com
END:VEVENT
BEGIN:VEVENT
DTSTART;VALUE=DATE:20231027
DTEND;VALUE=DATE:20231030
DTSTAMP:20260422T215905
CREATED:20230524T193922Z
LAST-MODIFIED:20230524T193922Z
UID:4928-1698364800-1698623999@okinawa-te.info
SUMMARY:IMAF International Olympic Style TKD Open
DESCRIPTION:Donate Crypto-currency \n			\n			\n			\n\n			\n			\n			\n			\n			\n			Wallet address of bitcoin\n			13JDhP1YScpJosCbkXwWUeS
URL:https://okinawa-te.info/event/imaf-international-olympic-style-tkd-open/
LOCATION:Wyndam Orlando Resort\, 8001 International Drive\, Orlando\, FL\, 32819\, United States
ORGANIZER;CN="USA Sport Karate":MAILTO:info@usasportkarate.com
END:VEVENT
BEGIN:VEVENT
DTSTART;VALUE=DATE:20231021
DTEND;VALUE=DATE:20231022
DTSTAMP:20260422T215905
CREATED:20231011T170039Z
LAST-MODIFIED:20231011T170039Z
UID:5596-1697846400-1697932799@okinawa-te.info
SUMMARY:Children's & Young Adult's Martial Arts Tournament
DESCRIPTION:Celebrating the Memory of Grand Master Marty Manuel \n \n			\n			\n			 Donate Crypto-currency \n			\n			\n			\n\n			\n			\n			\n			\n			\n			Wallet address of bitcoin\n			13JDhP1YScpJosCbkXwWUeS
URL:https://okinawa-te.info/event/childrens-young-adults-martial-arts-tournament/
LOCATION:Faith Bible Church\, 3139 East Chestnut Avenue\, Vineland\, NJ\, 08361\, United States
END:VEVENT
BEGIN:VEVENT
DTSTART;VALUE=DATE:20231014
DTEND;VALUE=DATE:20231015
DTSTAMP:20260422T215905
CREATED:20230805T164439Z
LAST-MODIFIED:20230805T164439Z
UID:5193-1697241600-1697327999@okinawa-te.info
SUMMARY:Cape Fear Isshin-Ryu's Annual Invitational Tournament
DESCRIPTION:Donate Crypto-currency \n			\n			\n			\n\n			\n			\n			\n			\n			\n			Wallet address of bitcoin\n			13JDhP1YScpJosCbkXwWUeS
URL:https://okinawa-te.info/event/cape-fear-isshin-ryus-annual-invitational-tournament/
LOCATION:Castle Hayne Baptist Church Gym\, 4544 Parmele Road\, Castle Hayne\, NC\, 28429\, United States
END:VEVENT
BEGIN:VEVENT
DTSTART;VALUE=DATE:20230929
DTEND;VALUE=DATE:20231001
DTSTAMP:20260422T215905
CREATED:20230807T161124Z
LAST-MODIFIED:20230807T161124Z
UID:5208-1695945600-1696118399@okinawa-te.info
SUMMARY:Mayan Challenge
DESCRIPTION:Donate Crypto-currency \n			\n			\n			\n\n			\n			\n			\n			\n			\n			Wallet address of bitcoin\n			13JDhP1YScpJosCbkXwWUeS
URL:https://okinawa-te.info/event/mayan-challenge-2/
LOCATION:Seabreeze High Schoo;\, 2700 N Oleander Blvd\, Daytona Beach\, FL\, 32118\, United States
ORGANIZER;CN="USA Sport Karate":MAILTO:info@usasportkarate.com
END:VEVENT
BEGIN:VEVENT
DTSTART;VALUE=DATE:20230924
DTEND;VALUE=DATE:20230925
DTSTAMP:20260422T215905
CREATED:20230805T163938Z
LAST-MODIFIED:20230805T163938Z
UID:5189-1695513600-1695599999@okinawa-te.info
SUMMARY:Illinois State Karate Championships
DESCRIPTION:Donate Crypto-currency \n			\n			\n			\n\n			\n			\n			\n			\n			\n			Wallet address of bitcoin\n			13JDhP1YScpJosCbkXwWUeS
URL:https://okinawa-te.info/event/illinois-state-karate-championships/
LOCATION:Aurora Turners Gymnasium\, 1335 Mitchell Road\, Aurora\, 60505\, United States
END:VEVENT
END:VCALENDAR