BEGIN:VCALENDAR
VERSION:2.0
PRODID:-//Sensei Lindgren&#039;s Okinawa-Te Page - ECPv6.3.2//NONSGML v1.0//EN
CALSCALE:GREGORIAN
METHOD:PUBLISH
X-WR-CALNAME:Sensei Lindgren&#039;s Okinawa-Te Page
X-ORIGINAL-URL:https://okinawa-te.info
X-WR-CALDESC:Events for Sensei Lindgren&#039;s Okinawa-Te Page
REFRESH-INTERVAL;VALUE=DURATION:PT1H
X-Robots-Tag:noindex
X-PUBLISHED-TTL:PT1H
BEGIN:VTIMEZONE
TZID:UTC
BEGIN:STANDARD
TZOFFSETFROM:+0000
TZOFFSETTO:+0000
TZNAME:UTC
DTSTART:20210101T000000
END:STANDARD
END:VTIMEZONE
BEGIN:VEVENT
DTSTART;VALUE=DATE:20210612
DTEND;VALUE=DATE:20210613
DTSTAMP:20260423T063947
CREATED:20210406T005158Z
LAST-MODIFIED:20210406T005158Z
UID:2912-1623456000-1623542399@okinawa-te.info
SUMMARY:Chirico's Memorial Tournament
DESCRIPTION:Donate Crypto-currency \n			\n			\n			\n\n			\n			\n			\n			\n			\n			Wallet address of bitcoin\n			13JDhP1YScpJosCbkXwWUeS
URL:https://okinawa-te.info/event/chiricos-memorial-tournament/
LOCATION:St Demetrius Center\, 691 Roosevelt Ave\, Carteret\, NJ\, United States
ORGANIZER;CN="":MAILTO:ChiricoMemorial2021@gmail.com
END:VEVENT
BEGIN:VEVENT
DTSTART;VALUE=DATE:20210611
DTEND;VALUE=DATE:20210613
DTSTAMP:20260423T063947
CREATED:20210429T004222Z
LAST-MODIFIED:20210429T004222Z
UID:3215-1623369600-1623542399@okinawa-te.info
SUMMARY:Battle At The Beach
DESCRIPTION:Donate Crypto-currency \n			\n			\n			\n\n			\n			\n			\n			\n			\n			Wallet address of bitcoin\n			13JDhP1YScpJosCbkXwWUeS
URL:https://okinawa-te.info/event/battle-at-the-beach/
LOCATION:Sheraton Sand Key Resort\, 1160 Gulf Blvd\, Clearwater\, 33767\, United States
END:VEVENT
BEGIN:VEVENT
DTSTART;TZID=UTC:20210522T110000
DTEND;TZID=UTC:20210522T170000
DTSTAMP:20260423T063947
CREATED:20210518T005604Z
LAST-MODIFIED:20210518T005604Z
UID:3260-1621681200-1621702800@okinawa-te.info
SUMMARY:USA Sport Karate Officials Training
DESCRIPTION:Donate Crypto-currency \n			\n			\n			\n\n			\n			\n			\n			\n			\n			Wallet address of bitcoin\n			13JDhP1YScpJosCbkXwWUeS
URL:https://okinawa-te.info/event/usa-sport-karate-officials-training/
LOCATION:USA Sport Karate\, 3020 Lamberton Blvd #112\, Orlando\, FL\, 32825\, United States
END:VEVENT
BEGIN:VEVENT
DTSTART;TZID=UTC:20210517T143000
DTEND;TZID=UTC:20210517T193000
DTSTAMP:20260423T063947
CREATED:20210422T040314Z
LAST-MODIFIED:20210422T040314Z
UID:3192-1621261800-1621279800@okinawa-te.info
SUMMARY:Dojo Dynamics Blood Drive
DESCRIPTION:Donate Crypto-currency \n			\n			\n			\n\n			\n			\n			\n			\n			\n			Wallet address of bitcoin\n			13JDhP1YScpJosCbkXwWUeS
URL:https://okinawa-te.info/event/dojo-dynamics-blood-drive/
LOCATION:Dojo Dynamics\, 131 S Wells\, Sandwich\, United States
ORGANIZER;CN="Scott Francis":MAILTO:scottfrancis@dojodynamics.com
END:VEVENT
BEGIN:VEVENT
DTSTART;VALUE=DATE:20210508
DTEND;VALUE=DATE:20210509
DTSTAMP:20260423T063947
CREATED:20210421T152417Z
LAST-MODIFIED:20210421T152739Z
UID:3185-1620432000-1620518399@okinawa-te.info
SUMMARY:2021 Spring Fling Traditional Martial Arts Championship
DESCRIPTION:Donate Crypto-currency \n			\n			\n			\n\n			\n			\n			\n			\n			\n			Wallet address of bitcoin\n			13JDhP1YScpJosCbkXwWUeS
URL:https://okinawa-te.info/event/2021-spring-fling-traditional-martial-arts-championship/
LOCATION:Wyndam Orlando Resort\, 8001 International Drive\, Orlando\, FL\, 32819\, United States
END:VEVENT
BEGIN:VEVENT
DTSTART;VALUE=DATE:20210424
DTEND;VALUE=DATE:20210425
DTSTAMP:20260423T063947
CREATED:20210421T154236Z
LAST-MODIFIED:20210421T154403Z
UID:3188-1619222400-1619308799@okinawa-te.info
SUMMARY:USA Sport Karate
DESCRIPTION:Donate Crypto-currency \n			\n			\n			\n\n			\n			\n			\n			\n			\n			Wallet address of bitcoin\n			13JDhP1YScpJosCbkXwWUeS
URL:https://okinawa-te.info/event/usa-sport-karate/
LOCATION:Trinity Lutheran\, 400 N. Swinton Ave\, Delray Beach\, FL\, United States
ORGANIZER;CN="Jhon Cardona":MAILTO:info@usasportkarate.com
END:VEVENT
BEGIN:VEVENT
DTSTART;VALUE=DATE:20210417
DTEND;VALUE=DATE:20210418
DTSTAMP:20260423T063947
CREATED:20210407T195431Z
LAST-MODIFIED:20210407T195431Z
UID:2935-1618617600-1618703999@okinawa-te.info
SUMMARY:Knuckle Up Fighting Championships
DESCRIPTION:Donate Crypto-currency \n			\n			\n			\n\n			\n			\n			\n			\n			\n			Wallet address of bitcoin\n			13JDhP1YScpJosCbkXwWUeS
URL:https://okinawa-te.info/event/knuckle-up-fighting-championships/
LOCATION:Wyndam Orlando Resort\, 8001 International Drive\, Orlando\, FL\, 32819\, United States
END:VEVENT
BEGIN:VEVENT
DTSTART;VALUE=DATE:20210410
DTEND;VALUE=DATE:20210411
DTSTAMP:20260423T063947
CREATED:20210410T013414Z
LAST-MODIFIED:20210410T013414Z
UID:2973-1618012800-1618099199@okinawa-te.info
SUMMARY:World Virtual Isshinryu Challenge
DESCRIPTION:Donate Crypto-currency \n			\n			\n			\n\n			\n			\n			\n			\n			\n			Wallet address of bitcoin\n			13JDhP1YScpJosCbkXwWUeS
URL:https://okinawa-te.info/event/world-virtual-isshinryu-challenge/
LOCATION:facebook.com/usasportkarate
END:VEVENT
END:VCALENDAR