BEGIN:VCALENDAR
VERSION:2.0
PRODID:-//Sensei Lindgren&#039;s Okinawa-Te Page - ECPv6.3.2//NONSGML v1.0//EN
CALSCALE:GREGORIAN
METHOD:PUBLISH
X-WR-CALNAME:Sensei Lindgren&#039;s Okinawa-Te Page
X-ORIGINAL-URL:https://okinawa-te.info
X-WR-CALDESC:Events for Sensei Lindgren&#039;s Okinawa-Te Page
REFRESH-INTERVAL;VALUE=DURATION:PT1H
X-Robots-Tag:noindex
X-PUBLISHED-TTL:PT1H
BEGIN:VTIMEZONE
TZID:UTC
BEGIN:STANDARD
TZOFFSETFROM:+0000
TZOFFSETTO:+0000
TZNAME:UTC
DTSTART:20220101T000000
END:STANDARD
END:VTIMEZONE
BEGIN:VEVENT
DTSTART;VALUE=DATE:20220527
DTEND;VALUE=DATE:20220529
DTSTAMP:20260422T224618
CREATED:20220517T182633Z
LAST-MODIFIED:20220517T182633Z
UID:4133-1653609600-1653782399@okinawa-te.info
SUMMARY:Carolina Martial Arts Open
DESCRIPTION:Donate Crypto-currency \n			\n			\n			\n\n			\n			\n			\n			\n			\n			Wallet address of bitcoin\n			13JDhP1YScpJosCbkXwWUeS
URL:https://okinawa-te.info/event/carolina-martial-arts-open/
LOCATION:Doubletrree by Hilton\, 2100 Bush River Road\, Columbia\, SC\, 29210\, United States
ORGANIZER;CN="Sbihan Brian Pena":MAILTO:Info@TheKarateDojo.com
END:VEVENT
BEGIN:VEVENT
DTSTART;VALUE=DATE:20220521
DTEND;VALUE=DATE:20220522
DTSTAMP:20260422T224618
CREATED:20220205T184954Z
LAST-MODIFIED:20220205T184954Z
UID:3745-1653091200-1653177599@okinawa-te.info
SUMMARY:Northern Indiana Karate Championship
DESCRIPTION:Donate Crypto-currency \n			\n			\n			\n\n			\n			\n			\n			\n			\n			Wallet address of bitcoin\n			13JDhP1YScpJosCbkXwWUeS
URL:https://okinawa-te.info/event/northern-indiana-karate-championship/
LOCATION:The Life Plex\, 2855 Miller Drive\, Plymouth\, IN\, 46563\, United States
ORGANIZER;CN="Lions Karate of North Webster":MAILTO:steve@lionskarate.com
END:VEVENT
BEGIN:VEVENT
DTSTART;VALUE=DATE:20220515
DTEND;VALUE=DATE:20220516
DTSTAMP:20260422T224618
CREATED:20220410T050849Z
LAST-MODIFIED:20220410T050849Z
UID:4064-1652572800-1652659199@okinawa-te.info
SUMMARY:2022 AAU Karate Western Regional Championships
DESCRIPTION:Donate Crypto-currency \n			\n			\n			\n\n			\n			\n			\n			\n			\n			Wallet address of bitcoin\n			13JDhP1YScpJosCbkXwWUeS
URL:https://okinawa-te.info/event/2022-aau-karate-western-regional-championships/
LOCATION:Japan Karate-Do Federation\, 23725 Via Fabricante Suite E\, Mission Viejo\, 92691\, United States
ORGANIZER;CN="AAU Karate":MAILTO:UCSDKarate@gmail.com
END:VEVENT
BEGIN:VEVENT
DTSTART;VALUE=DATE:20220515
DTEND;VALUE=DATE:20220516
DTSTAMP:20260422T224618
CREATED:20220217T152916Z
LAST-MODIFIED:20220217T153017Z
UID:3803-1652572800-1652659199@okinawa-te.info
SUMMARY:2022 AAU Karate Team Trial - South
DESCRIPTION:Donate Crypto-currency \n			\n			\n			\n\n			\n			\n			\n			\n			\n			Wallet address of bitcoin\n			13JDhP1YScpJosCbkXwWUeS
URL:https://okinawa-te.info/event/2022-aau-karate-team-trial-south/
LOCATION:NJ
ORGANIZER;CN="AAU Karate":MAILTO:UCSDKarate@gmail.com
END:VEVENT
BEGIN:VEVENT
DTSTART;VALUE=DATE:20220514
DTEND;VALUE=DATE:20220515
DTSTAMP:20260422T224618
CREATED:20220206T144737Z
LAST-MODIFIED:20220206T144737Z
UID:3767-1652486400-1652572799@okinawa-te.info
SUMMARY:2022 Lions Den Challenge
DESCRIPTION:Donate Crypto-currency \n			\n			\n			\n\n			\n			\n			\n			\n			\n			Wallet address of bitcoin\n			13JDhP1YScpJosCbkXwWUeS
URL:https://okinawa-te.info/event/2022-lions-den-challenge/
LOCATION:Ennis High School\, Ennis\, TX\, United States
ORGANIZER;CN="Texas Karate League":MAILTO:mjohnson@texasblackbelt.net
END:VEVENT
BEGIN:VEVENT
DTSTART;VALUE=DATE:20220513
DTEND;VALUE=DATE:20220516
DTSTAMP:20260422T224618
CREATED:20220410T050229Z
LAST-MODIFIED:20220410T050229Z
UID:4060-1652400000-1652659199@okinawa-te.info
SUMMARY:2022 30th Annual Golden State Open National Judo Championships
DESCRIPTION:Donate Crypto-currency \n			\n			\n			\n\n			\n			\n			\n			\n			\n			Wallet address of bitcoin\n			13JDhP1YScpJosCbkXwWUeS
URL:https://okinawa-te.info/event/2022-30th-annual-golden-state-open-national-judo-championships/
LOCATION:Northview High School\, 1016 Cypress Street\, Covina\, CA\, 91722\, United States
END:VEVENT
BEGIN:VEVENT
DTSTART;VALUE=DATE:20220507
DTEND;VALUE=DATE:20220508
DTSTAMP:20260422T224618
CREATED:20220328T043856Z
LAST-MODIFIED:20220328T043856Z
UID:3852-1651881600-1651967999@okinawa-te.info
SUMMARY:The Masters Karate Tournament
DESCRIPTION:Donate Crypto-currency \n			\n			\n			\n\n			\n			\n			\n			\n			\n			Wallet address of bitcoin\n			13JDhP1YScpJosCbkXwWUeS
URL:https://okinawa-te.info/event/the-masters-karate-tournament/
LOCATION:Doubletree Hotell\, 711 NW 72nd Ave\, Miami\, 33126\, United States
ORGANIZER;CN="Joe Anon":MAILTO:zapjoe@bellsouth.net
END:VEVENT
BEGIN:VEVENT
DTSTART;VALUE=DATE:20220507
DTEND;VALUE=DATE:20220508
DTSTAMP:20260422T224618
CREATED:20220318T050722Z
LAST-MODIFIED:20220318T051234Z
UID:3835-1651881600-1651967999@okinawa-te.info
SUMMARY:USA Sport Karate District 1-2 - Deltona\, FL
DESCRIPTION:Donate Crypto-currency \n			\n			\n			\n\n			\n			\n			\n			\n			\n			Wallet address of bitcoin\n			13JDhP1YScpJosCbkXwWUeS
URL:https://okinawa-te.info/event/usa-sport-karate-district-1-2/
LOCATION:Pine Ridge High School\, 926 Howland Blvd\, Deltona\, FL\, 32738\, United States
ORGANIZER;CN="USA Sport Karate":MAILTO:info@usasportkarate.com
END:VEVENT
BEGIN:VEVENT
DTSTART;VALUE=DATE:20220501
DTEND;VALUE=DATE:20220502
DTSTAMP:20260422T224618
CREATED:20220217T152713Z
LAST-MODIFIED:20220217T152713Z
UID:3801-1651363200-1651449599@okinawa-te.info
SUMMARY:2022 AAU Karate Team Trial - Midwest
DESCRIPTION:Donate Crypto-currency \n			\n			\n			\n\n			\n			\n			\n			\n			\n			Wallet address of bitcoin\n			13JDhP1YScpJosCbkXwWUeS
URL:https://okinawa-te.info/event/2022-aau-karate-team-trial-midwest/
LOCATION:NJ
ORGANIZER;CN="AAU Karate":MAILTO:UCSDKarate@gmail.com
END:VEVENT
BEGIN:VEVENT
DTSTART;VALUE=DATE:20220430
DTEND;VALUE=DATE:20220501
DTSTAMP:20260422T224618
CREATED:20220324T233342Z
LAST-MODIFIED:20220324T233342Z
UID:3845-1651276800-1651363199@okinawa-te.info
SUMMARY:Vice City Championships
DESCRIPTION:Donate Crypto-currency \n			\n			\n			\n\n			\n			\n			\n			\n			\n			Wallet address of bitcoin\n			13JDhP1YScpJosCbkXwWUeS
URL:https://okinawa-te.info/event/vice-city-championships/
LOCATION:Champions Florida\, 1360 NW 88th Ave\, Miami\, FL\, 33172\, United States
ORGANIZER;CN="USA Sport Karate":MAILTO:info@usasportkarate.com
END:VEVENT
BEGIN:VEVENT
DTSTART;VALUE=DATE:20220423
DTEND;VALUE=DATE:20220424
DTSTAMP:20260422T224618
CREATED:20220406T144621Z
LAST-MODIFIED:20220406T144621Z
UID:4056-1650672000-1650758399@okinawa-te.info
SUMMARY:Platinum Open Martial Arts Championship
DESCRIPTION:Donate Crypto-currency \n			\n			\n			\n\n			\n			\n			\n			\n			\n			Wallet address of bitcoin\n			13JDhP1YScpJosCbkXwWUeS
URL:https://okinawa-te.info/event/platinum-open-martial-arts-championship/
LOCATION:Lower-Mohler Assembly Hall\, Missouri State Fairgounds\, 2503 W 16th St\, Sedalia\, MO\, 65301\, United States
ORGANIZER;CN="Robert Baum":MAILTO:info@platinumopen.com
END:VEVENT
BEGIN:VEVENT
DTSTART;VALUE=DATE:20220417
DTEND;VALUE=DATE:20220418
DTSTAMP:20260422T224618
CREATED:20220217T152444Z
LAST-MODIFIED:20220217T152444Z
UID:3799-1650153600-1650239999@okinawa-te.info
SUMMARY:2022 AAU Team Trial Event - West Coast
DESCRIPTION:Donate Crypto-currency \n			\n			\n			\n\n			\n			\n			\n			\n			\n			Wallet address of bitcoin\n			13JDhP1YScpJosCbkXwWUeS
URL:https://okinawa-te.info/event/2022-aau-team-trial-event-west-coast/
LOCATION:NJ
ORGANIZER;CN="AAU Karate":MAILTO:UCSDKarate@gmail.com
END:VEVENT
BEGIN:VEVENT
DTSTART;TZID=UTC:20220415T080000
DTEND;TZID=UTC:20220416T170000
DTSTAMP:20260422T224618
CREATED:20220217T022128Z
LAST-MODIFIED:20220217T022128Z
UID:3797-1650009600-1650128400@okinawa-te.info
SUMMARY:Knuckle Up Fighting Championships
DESCRIPTION:Donate Crypto-currency \n			\n			\n			\n\n			\n			\n			\n			\n			\n			Wallet address of bitcoin\n			13JDhP1YScpJosCbkXwWUeS
URL:https://okinawa-te.info/event/knuckle-up-fighting-championships-2/
LOCATION:NJ
ORGANIZER;CN="USA Sport Karate":MAILTO:info@usasportkarate.com
END:VEVENT
BEGIN:VEVENT
DTSTART;VALUE=DATE:20220402
DTEND;VALUE=DATE:20220403
DTSTAMP:20260422T224618
CREATED:20220120T192043Z
LAST-MODIFIED:20220120T192043Z
UID:3702-1648857600-1648943999@okinawa-te.info
SUMMARY:Battle of the Scorpion
DESCRIPTION:Donate Crypto-currency \n			\n			\n			\n\n			\n			\n			\n			\n			\n			Wallet address of bitcoin\n			13JDhP1YScpJosCbkXwWUeS
URL:https://okinawa-te.info/event/battle-of-the-scorpion/
LOCATION:Tampa Bay\, FL\, United States
ORGANIZER;CN="Host":MAILTO:combatippon@gmail.com
END:VEVENT
BEGIN:VEVENT
DTSTART;VALUE=DATE:20220326
DTEND;VALUE=DATE:20220327
DTSTAMP:20260422T224618
CREATED:20220120T193258Z
LAST-MODIFIED:20220120T193258Z
UID:3706-1648252800-1648339199@okinawa-te.info
SUMMARY:Tournament of Champions Martial Arts "BEST of the BEST"
DESCRIPTION:Donate Crypto-currency \n			\n			\n			\n\n			\n			\n			\n			\n			\n			Wallet address of bitcoin\n			13JDhP1YScpJosCbkXwWUeS
URL:https://okinawa-te.info/event/tournament-of-champions-martial-arts-best-of-the-best/
LOCATION:Presbyterian Church Gym\, 1201 N. Beneva Rd\, Sarasota\, FL\, 34232\, United States
END:VEVENT
BEGIN:VEVENT
DTSTART;VALUE=DATE:20220319
DTEND;VALUE=DATE:20220320
DTSTAMP:20260422T224618
CREATED:20220317T031917Z
LAST-MODIFIED:20220317T031917Z
UID:3830-1647648000-1647734399@okinawa-te.info
SUMMARY:USA Sport Karate District 3
DESCRIPTION:Donate Crypto-currency \n			\n			\n			\n\n			\n			\n			\n			\n			\n			Wallet address of bitcoin\n			13JDhP1YScpJosCbkXwWUeS
URL:https://okinawa-te.info/event/usa-sport-karate-district-3/
LOCATION:Trinity Lutheran\, 400 N. Swinton Ave\, Delray Beach\, FL\, United States
ORGANIZER;CN="USA Sport Karate":MAILTO:info@usasportkarate.com
END:VEVENT
BEGIN:VEVENT
DTSTART;VALUE=DATE:20220319
DTEND;VALUE=DATE:20220320
DTSTAMP:20260422T224618
CREATED:20220209T164051Z
LAST-MODIFIED:20220209T164051Z
UID:3781-1647648000-1647734399@okinawa-te.info
SUMMARY:Morrisville Martial Arts Open Tournament
DESCRIPTION:Donate Crypto-currency \n			\n			\n			\n\n			\n			\n			\n			\n			\n			Wallet address of bitcoin\n			13JDhP1YScpJosCbkXwWUeS
URL:https://okinawa-te.info/event/morrisville-martial-arts-open-tournament/
LOCATION:NetSports\, 3717 Davis Drive\, Morrisville\, NC\, 27560\, United States
END:VEVENT
BEGIN:VEVENT
DTSTART;VALUE=DATE:20220319
DTEND;VALUE=DATE:20220320
DTSTAMP:20260422T224618
CREATED:20220205T184639Z
LAST-MODIFIED:20220205T184639Z
UID:3742-1647648000-1647734399@okinawa-te.info
SUMMARY:Best of the Best
DESCRIPTION:Donate Crypto-currency \n			\n			\n			\n\n			\n			\n			\n			\n			\n			Wallet address of bitcoin\n			13JDhP1YScpJosCbkXwWUeS
URL:https://okinawa-te.info/event/best-of-the-best/
LOCATION:Wawasee Middle School\, 9850 N State Road 13\, Syracuse\, IN\, 46567\, United States
ORGANIZER;CN="Lions Karate of North Webster":MAILTO:steve@lionskarate.com
END:VEVENT
BEGIN:VEVENT
DTSTART;VALUE=DATE:20220312
DTEND;VALUE=DATE:20220313
DTSTAMP:20260422T224618
CREATED:20220307T223509Z
LAST-MODIFIED:20220307T223743Z
UID:3819-1647043200-1647129599@okinawa-te.info
SUMMARY:USA Sport Karate District 1 - Kissimee\, FL
DESCRIPTION:Donate Crypto-currency \n			\n			\n			\n\n			\n			\n			\n			\n			\n			Wallet address of bitcoin\n			13JDhP1YScpJosCbkXwWUeS
URL:https://okinawa-te.info/event/usa-sport-karate-district-1/
LOCATION:Kissimmee Middle School\, 2410 Dyer Blvd\, Kissimmee\, FL\, 34741\, United States
ORGANIZER;CN="USA Sport Karate":MAILTO:info@usasportkarate.com
END:VEVENT
BEGIN:VEVENT
DTSTART;VALUE=DATE:20220312
DTEND;VALUE=DATE:20220313
DTSTAMP:20260422T224618
CREATED:20220120T202017Z
LAST-MODIFIED:20220120T202017Z
UID:3709-1647043200-1647129599@okinawa-te.info
SUMMARY:23rd Annual Warrior of God Martial Arts Championships
DESCRIPTION:Donate Crypto-currency \n			\n			\n			\n\n			\n			\n			\n			\n			\n			Wallet address of bitcoin\n			13JDhP1YScpJosCbkXwWUeS
URL:https://okinawa-te.info/event/23rd-annual-warrior-of-god-martial-arts-championships/
LOCATION:Holiday Inn\, 300 Tuttle Circle\, Longview\, TX\, 75605\, United States
ORGANIZER;CN="Wansai International Ministry Team":MAILTO:wansai-international@gmail.com
END:VEVENT
BEGIN:VEVENT
DTSTART;TZID=UTC:20220311T080000
DTEND;TZID=UTC:20220312T170000
DTSTAMP:20260422T224618
CREATED:20220227T225335Z
LAST-MODIFIED:20220227T225335Z
UID:3813-1646985600-1647104400@okinawa-te.info
SUMMARY:Tiger-Rock 2022 National Championships
DESCRIPTION:Donate Crypto-currency \n			\n			\n			\n\n			\n			\n			\n			\n			\n			Wallet address of bitcoin\n			13JDhP1YScpJosCbkXwWUeS
URL:https://okinawa-te.info/event/tiger-rock-2022-national-championships/
LOCATION:Galveston Island Convention Center\, 5600 Seawall Blvd\, Galveston\, TX\, 77551\, United States
ORGANIZER;CN="Tiger-Rock Martial Arts":MAILTO:staff@northaustinmaf.com
END:VEVENT
BEGIN:VEVENT
DTSTART;VALUE=DATE:20220305
DTEND;VALUE=DATE:20220306
DTSTAMP:20260422T224618
CREATED:20220118T212151Z
LAST-MODIFIED:20220118T212151Z
UID:3681-1646438400-1646524799@okinawa-te.info
SUMMARY:Inland Empire District Championship & National Qualifier
DESCRIPTION:Donate Crypto-currency \n			\n			\n			\n\n			\n			\n			\n			\n			\n			Wallet address of bitcoin\n			13JDhP1YScpJosCbkXwWUeS
URL:https://okinawa-te.info/event/inland-empire-district-championship-national-qualifier/
LOCATION:Tammany View Baptist Church\, 3732 20th Street\, Lewiston\, ID\, 83501\, United States
ORGANIZER;CN="Brian Morrow":MAILTO:ieaaukarate@gmail.com
END:VEVENT
BEGIN:VEVENT
DTSTART;VALUE=DATE:20220226
DTEND;VALUE=DATE:20220227
DTSTAMP:20260422T224618
CREATED:20220201T160929Z
LAST-MODIFIED:20220201T160929Z
UID:3728-1645833600-1645919999@okinawa-te.info
SUMMARY:USA Sport Karate District 2 - Titusville\, FL
DESCRIPTION:Donate Crypto-currency \n			\n			\n			\n\n			\n			\n			\n			\n			\n			Wallet address of bitcoin\n			13JDhP1YScpJosCbkXwWUeS
URL:https://okinawa-te.info/event/usa-sport-karate-district-2-titusville-fl/
LOCATION:Astronaut High School\, 800 War Eagle Blvd\, Titusville\, FL\, 32796\, United States
ORGANIZER;CN="USA Sport Karate":MAILTO:info@usasportkarate.com
END:VEVENT
BEGIN:VEVENT
DTSTART;VALUE=DATE:20220219
DTEND;VALUE=DATE:20220220
DTSTAMP:20260422T224618
CREATED:20220206T143340Z
LAST-MODIFIED:20220206T143418Z
UID:3762-1645228800-1645315199@okinawa-te.info
SUMMARY:2022 TKL Eagle Championships
DESCRIPTION:Donate Crypto-currency \n			\n			\n			\n\n			\n			\n			\n			\n			\n			Wallet address of bitcoin\n			13JDhP1YScpJosCbkXwWUeS
URL:https://okinawa-te.info/event/tkl-eagle-championships/
LOCATION:Grace Preparatory Academy\, 3300 W Interstate 20\, Arlington\, TX\, 76017\, United States
ORGANIZER;CN="Texas Karate League":MAILTO:mjohnson@texasblackbelt.net
END:VEVENT
BEGIN:VEVENT
DTSTART;VALUE=DATE:20220219
DTEND;VALUE=DATE:20220220
DTSTAMP:20260422T224618
CREATED:20220205T184138Z
LAST-MODIFIED:20220205T184138Z
UID:3738-1645228800-1645315199@okinawa-te.info
SUMMARY:Martial Arts Mania
DESCRIPTION:Donate Crypto-currency \n			\n			\n			\n\n			\n			\n			\n			\n			\n			Wallet address of bitcoin\n			13JDhP1YScpJosCbkXwWUeS
URL:https://okinawa-te.info/event/martial-arts-mania/
LOCATION:Allen County War Memorial Coliseum\, 4000 Parnell Ave\, Fort Wayne\, IN\, 46825\, United States
ORGANIZER;CN="Lions Karate of North Webster":MAILTO:steve@lionskarate.com
END:VEVENT
BEGIN:VEVENT
DTSTART;VALUE=DATE:20220219
DTEND;VALUE=DATE:20220220
DTSTAMP:20260422T224618
CREATED:20220119T210901Z
LAST-MODIFIED:20220119T211005Z
UID:3687-1645228800-1645315199@okinawa-te.info
SUMMARY:USA Sport Karate-District 1
DESCRIPTION:Donate Crypto-currency \n			\n			\n			\n\n			\n			\n			\n			\n			\n			Wallet address of bitcoin\n			13JDhP1YScpJosCbkXwWUeS
URL:https://okinawa-te.info/event/usa-sport-karate-2/
LOCATION:Central Baptist Christian School\, 402 East Windhorst Road\, Brandon\, FL\, 33510\, United States
END:VEVENT
BEGIN:VEVENT
DTSTART;VALUE=DATE:20220219
DTEND;VALUE=DATE:20220220
DTSTAMP:20260422T224618
CREATED:20211205T035757Z
LAST-MODIFIED:20220119T205706Z
UID:3602-1645228800-1645315199@okinawa-te.info
SUMMARY:2022 Nature Coast Taekwondo  Championship
DESCRIPTION:Donate Crypto-currency \n			\n			\n			\n\n			\n			\n			\n			\n			\n			Wallet address of bitcoin\n			13JDhP1YScpJosCbkXwWUeS
URL:https://okinawa-te.info/event/2022-nature-coast-taekwondo-championship/
LOCATION:Veterans Memorial Park\, 14333 Hicks Road\, Hudso\, FL\, 34669\, United States
ORGANIZER;CN="Randall Babbitt":MAILTO:utkd@icloud.com
END:VEVENT
BEGIN:VEVENT
DTSTART;VALUE=DATE:20220211
DTEND;VALUE=DATE:20220213
DTSTAMP:20260422T224618
CREATED:20220208T224025Z
LAST-MODIFIED:20220208T224134Z
UID:3775-1644537600-1644710399@okinawa-te.info
SUMMARY:Starcade International Martial Arts Championships
DESCRIPTION:Donate Crypto-currency \n			\n			\n			\n\n			\n			\n			\n			\n			\n			Wallet address of bitcoin\n			13JDhP1YScpJosCbkXwWUeS
URL:https://okinawa-te.info/event/starcade-international-martial-arts-championships/
LOCATION:Chateai Mar Golf Resort and Convention\, 3501 Inverrary Blvd\, Ft Lauderdale\, 33319\, United States
ORGANIZER;CN="Starcade International":MAILTO:murphyskarate@hotmail.com
END:VEVENT
BEGIN:VEVENT
DTSTART;VALUE=DATE:20220206
DTEND;VALUE=DATE:20220207
DTSTAMP:20260422T224618
CREATED:20220103T201515Z
LAST-MODIFIED:20220103T201515Z
UID:3636-1644105600-1644191999@okinawa-te.info
SUMMARY:AAU Karate Southern Pacific District Championship
DESCRIPTION:Donate Crypto-currency \n			\n			\n			\n\n			\n			\n			\n			\n			\n			Wallet address of bitcoin\n			13JDhP1YScpJosCbkXwWUeS
URL:https://okinawa-te.info/event/aau-karate-southern-pacific-district-championship/
LOCATION:Mission Viejo\, 23725 Via Fabricante\, Mission Viejo\, CA\, 92691\, United States
ORGANIZER;CN="Paul Godshaw":MAILTO:paul@jkdf.occoxmail.com
END:VEVENT
BEGIN:VEVENT
DTSTART;VALUE=DATE:20220205
DTEND;VALUE=DATE:20220206
DTSTAMP:20260422T224618
CREATED:20220119T212119Z
LAST-MODIFIED:20220119T212119Z
UID:3692-1644019200-1644105599@okinawa-te.info
SUMMARY:2022 USA Taekwondo Center Open Championship
DESCRIPTION:Donate Crypto-currency \n			\n			\n			\n\n			\n			\n			\n			\n			\n			Wallet address of bitcoin\n			13JDhP1YScpJosCbkXwWUeS
URL:https://okinawa-te.info/event/2022-usa-taekwondo-center-open-championship/
LOCATION:Estero Park and Recreation Center\, 9200 Corkscrew Palms Blvd\, Estero\, FL\, 33928\, United States
ORGANIZER;CN="USA Taekwondo Center":MAILTO:usataekwondocenter@comcast.com
END:VEVENT
END:VCALENDAR