BEGIN:VCALENDAR
VERSION:2.0
PRODID:-//Sensei Lindgren&#039;s Okinawa-Te Page - ECPv6.3.2//NONSGML v1.0//EN
CALSCALE:GREGORIAN
METHOD:PUBLISH
X-WR-CALNAME:Sensei Lindgren&#039;s Okinawa-Te Page
X-ORIGINAL-URL:https://okinawa-te.info
X-WR-CALDESC:Events for Sensei Lindgren&#039;s Okinawa-Te Page
REFRESH-INTERVAL;VALUE=DURATION:PT1H
X-Robots-Tag:noindex
X-PUBLISHED-TTL:PT1H
BEGIN:VTIMEZONE
TZID:UTC
BEGIN:STANDARD
TZOFFSETFROM:+0000
TZOFFSETTO:+0000
TZNAME:UTC
DTSTART:20250101T000000
END:STANDARD
END:VTIMEZONE
BEGIN:VEVENT
DTSTART;VALUE=DATE:20260207
DTEND;VALUE=DATE:20260208
DTSTAMP:20260422T012913
CREATED:20260202T164803Z
LAST-MODIFIED:20260202T165001Z
UID:9602-1770422400-1770508799@okinawa-te.info
SUMMARY:2026 King George Winter Shiai
DESCRIPTION:Donate Crypto-currency \n			\n			\n			\n\n			\n			\n			\n			\n			\n			Wallet address of bitcoin\n			13JDhP1YScpJosCbkXwWUeS
URL:https://okinawa-te.info/event/2026-king-george-winter-shiai/
LOCATION:King George Dojo\, 9100 St Anthony's Road\, King George\, VA\, 22485\, United States
ORGANIZER;CN="Kevin Kline":MAILTO:kkline@va.metrocast.net
END:VEVENT
BEGIN:VEVENT
DTSTART;VALUE=DATE:20251031
DTEND;VALUE=DATE:20251102
DTSTAMP:20260422T012913
CREATED:20250205T151348Z
LAST-MODIFIED:20250205T151348Z
UID:6859-1761868800-1762041599@okinawa-te.info
SUMMARY:IMAF 2025 International Martial Arts Festival
DESCRIPTION:Donate Crypto-currency \n			\n			\n			\n\n			\n			\n			\n			\n			\n			Wallet address of bitcoin\n			13JDhP1YScpJosCbkXwWUeS
URL:https://okinawa-te.info/event/imaf-2025-international-martial-arts-festival/
LOCATION:VA
END:VEVENT
BEGIN:VEVENT
DTSTART;VALUE=DATE:20251025
DTEND;VALUE=DATE:20251026
DTSTAMP:20260422T012913
CREATED:20250223T162847Z
LAST-MODIFIED:20250223T162847Z
UID:6903-1761350400-1761436799@okinawa-te.info
SUMMARY:Brighton CKA Finale
DESCRIPTION:Donate Crypto-currency \n			\n			\n			\n\n			\n			\n			\n			\n			\n			Wallet address of bitcoin\n			13JDhP1YScpJosCbkXwWUeS
URL:https://okinawa-te.info/event/brighton-cka-finale/
LOCATION:VA
END:VEVENT
BEGIN:VEVENT
DTSTART;VALUE=DATE:20250928
DTEND;VALUE=DATE:20250929
DTSTAMP:20260422T012913
CREATED:20250625T172257Z
LAST-MODIFIED:20250625T172257Z
UID:7496-1759017600-1759103999@okinawa-te.info
SUMMARY:Chirico's Memorial Tournament
DESCRIPTION:Donate Crypto-currency \n			\n			\n			\n\n			\n			\n			\n			\n			\n			Wallet address of bitcoin\n			13JDhP1YScpJosCbkXwWUeS
URL:https://okinawa-te.info/event/chiricos-memorial-tournament-2/
LOCATION:St Demetrius Center\, 691 Roosevelt Ave\, Carteret\, NJ\, United States
END:VEVENT
BEGIN:VEVENT
DTSTART;VALUE=DATE:20250927
DTEND;VALUE=DATE:20250928
DTSTAMP:20260422T012913
CREATED:20250625T173752Z
LAST-MODIFIED:20250625T173752Z
UID:7502-1758931200-1759017599@okinawa-te.info
SUMMARY:Fort Wayne Karate Championship
DESCRIPTION:Donate Crypto-currency \n			\n			\n			\n\n			\n			\n			\n			\n			\n			Wallet address of bitcoin\n			13JDhP1YScpJosCbkXwWUeS
URL:https://okinawa-te.info/event/fort-wayne-karate-championship/
LOCATION:Concordia Seminary\, 6600 N Clinton St\, Fort Wayne\, IN\, 46825\, United States
ORGANIZER;CN="Ron and Anita Kuhn":MAILTO:pma@pmaftwayne.com
END:VEVENT
BEGIN:VEVENT
DTSTART;TZID=UTC:20250920T080000
DTEND;TZID=UTC:20250920T170000
DTSTAMP:20260422T012913
CREATED:20250223T162745Z
LAST-MODIFIED:20250223T162745Z
UID:6901-1758355200-1758387600@okinawa-te.info
SUMMARY:Brighton CKA Tournament
DESCRIPTION:Donate Crypto-currency \n			\n			\n			\n\n			\n			\n			\n			\n			\n			Wallet address of bitcoin\n			13JDhP1YScpJosCbkXwWUeS
URL:https://okinawa-te.info/event/brighton-cka-tournament/
LOCATION:VA
END:VEVENT
BEGIN:VEVENT
DTSTART;VALUE=DATE:20250809
DTEND;VALUE=DATE:20250810
DTSTAMP:20260422T012913
CREATED:20250309T151252Z
LAST-MODIFIED:20250309T151252Z
UID:6911-1754697600-1754783999@okinawa-te.info
SUMMARY:Camp Hovey-Kan Martial Arts Symposium
DESCRIPTION:Donate Crypto-currency \n			\n			\n			\n\n			\n			\n			\n			\n			\n			Wallet address of bitcoin\n			13JDhP1YScpJosCbkXwWUeS
URL:https://okinawa-te.info/event/camp-hovey-kan-martial-arts-symposium/
LOCATION:King George Dojo\, 9100 St Anthony's Road\, King George\, VA\, 22485\, United States
ORGANIZER;CN="Kevin Kline":MAILTO:kkline@va.metrocast.net
END:VEVENT
BEGIN:VEVENT
DTSTART;VALUE=DATE:20250802
DTEND;VALUE=DATE:20250803
DTSTAMP:20260422T012913
CREATED:20250223T162647Z
LAST-MODIFIED:20250223T162647Z
UID:6899-1754092800-1754179199@okinawa-te.info
SUMMARY:Fort Collins Summer Jam
DESCRIPTION:Donate Crypto-currency \n			\n			\n			\n\n			\n			\n			\n			\n			\n			Wallet address of bitcoin\n			13JDhP1YScpJosCbkXwWUeS
URL:https://okinawa-te.info/event/fort-collins-summer-jam/
LOCATION:VA
END:VEVENT
BEGIN:VEVENT
DTSTART;VALUE=DATE:20250712
DTEND;VALUE=DATE:20250714
DTSTAMP:20260422T012914
CREATED:20250220T182428Z
LAST-MODIFIED:20250220T182428Z
UID:6878-1752278400-1752451199@okinawa-te.info
SUMMARY:2025 USAMA World Championships
DESCRIPTION:Donate Crypto-currency \n			\n			\n			\n\n			\n			\n			\n			\n			\n			Wallet address of bitcoin\n			13JDhP1YScpJosCbkXwWUeS
URL:https://okinawa-te.info/event/2025-usama-world-championships/
LOCATION:Adventure Commons\, 70 Ken Hayes Dr.\, Bourbonnais\, IL\, United States
ORGANIZER;CN="Kyoshi Sue Hawkes":MAILTO:info@usamartialartists.org
END:VEVENT
BEGIN:VEVENT
DTSTART;VALUE=DATE:20250628
DTEND;VALUE=DATE:20250629
DTSTAMP:20260422T012914
CREATED:20250625T173248Z
LAST-MODIFIED:20250625T173248Z
UID:7498-1751068800-1751155199@okinawa-te.info
SUMMARY:SAMAL All Star Open Tournament 2025
DESCRIPTION:Donate Crypto-currency \n			\n			\n			\n\n			\n			\n			\n			\n			\n			Wallet address of bitcoin\n			13JDhP1YScpJosCbkXwWUeS
URL:https://okinawa-te.info/event/samal-all-star-open-tournament-2025/
LOCATION:Peacock Salvation Army Boys and Girls Club\, 615 Peacock Avenue\, San Antonio\, TX\, 78201\, United States
ORGANIZER;CN="San Antonio Martial Arts League":MAILTO:Universalkara07@att.net
END:VEVENT
BEGIN:VEVENT
DTSTART;VALUE=DATE:20250620
DTEND;VALUE=DATE:20250623
DTSTAMP:20260422T012914
CREATED:20250205T150223Z
LAST-MODIFIED:20250205T150223Z
UID:6851-1750377600-1750636799@okinawa-te.info
SUMMARY:2025 Matsubayshi Shorin-Ryu Rengokai and Okinawa Shorin-Ryu Karate Seminar
DESCRIPTION:Donate Crypto-currency \n			\n			\n			\n\n			\n			\n			\n			\n			\n			Wallet address of bitcoin\n			13JDhP1YScpJosCbkXwWUeS
URL:https://okinawa-te.info/event/2025-matsubayshi-shorin-ryu-rengokai-and-okinawa-shorin-ryu-karate-seminar/
LOCATION:Okinawa SKKA and World Matsubayashi SKK Rengokai Honbu Dojo\, 1601 W Redondo Beach Blvd\, #101\, Gardena\, CA\, 90247\, United States
ORGANIZER;CN="Matsubayashi Shorin-Ryu Rengokai Honbu Dojo":MAILTO:Eihachi.ota@gmail.conm
END:VEVENT
BEGIN:VEVENT
DTSTART;VALUE=DATE:20250613
DTEND;VALUE=DATE:20250615
DTSTAMP:20260422T012914
CREATED:20241230T164855Z
LAST-MODIFIED:20241230T164855Z
UID:6742-1749772800-1749945599@okinawa-te.info
SUMMARY:KIAI Karate Grand Nationals 2025
DESCRIPTION:Donate Crypto-currency \n			\n			\n			\n\n			\n			\n			\n			\n			\n			Wallet address of bitcoin\n			13JDhP1YScpJosCbkXwWUeS
URL:https://okinawa-te.info/event/kiai-karate-grand-nationals-2025/
LOCATION:Hope United Methodist Church Gymnasium\, 26275 Northwestern Highway\, Southfield\, MI\, 48076\, United States
ORGANIZER;CN="Southfield Martial Arts":MAILTO:smaiadams@aol.com
END:VEVENT
BEGIN:VEVENT
DTSTART;VALUE=DATE:20250607
DTEND;VALUE=DATE:20250608
DTSTAMP:20260422T012914
CREATED:20250223T162544Z
LAST-MODIFIED:20250223T162544Z
UID:6897-1749254400-1749340799@okinawa-te.info
SUMMARY:Windsor Kumite
DESCRIPTION:Donate Crypto-currency \n			\n			\n			\n\n			\n			\n			\n			\n			\n			Wallet address of bitcoin\n			13JDhP1YScpJosCbkXwWUeS
URL:https://okinawa-te.info/event/windsor-kumite/
LOCATION:VA
END:VEVENT
BEGIN:VEVENT
DTSTART;VALUE=DATE:20250518
DTEND;VALUE=DATE:20250519
DTSTAMP:20260422T012914
CREATED:20250223T155356Z
LAST-MODIFIED:20250223T155356Z
UID:6889-1747526400-1747612799@okinawa-te.info
SUMMARY:City of Lights
DESCRIPTION:Donate Crypto-currency \n			\n			\n			\n\n			\n			\n			\n			\n			\n			Wallet address of bitcoin\n			13JDhP1YScpJosCbkXwWUeS
URL:https://okinawa-te.info/event/city-of-lights/
LOCATION:Aurora Turners Club\, 1335 Mitchell Road\, Aurora\, 60505\, United States
END:VEVENT
BEGIN:VEVENT
DTSTART;VALUE=DATE:20250517
DTEND;VALUE=DATE:20250518
DTSTAMP:20260422T012914
CREATED:20250205T150936Z
LAST-MODIFIED:20250205T150936Z
UID:6855-1747440000-1747526399@okinawa-te.info
SUMMARY:State Games of Mississippi
DESCRIPTION:Donate Crypto-currency \n			\n			\n			\n\n			\n			\n			\n			\n			\n			Wallet address of bitcoin\n			13JDhP1YScpJosCbkXwWUeS
URL:https://okinawa-te.info/event/state-games-of-mississippi/
LOCATION:Meridian Community College Graham Gymnasium\, 910 Highway 19N\, Meridian\, MS\, 39301\, United States
ORGANIZER;CN="John Chioco":MAILTO:johnchioco@gmail.com
END:VEVENT
BEGIN:VEVENT
DTSTART;VALUE=DATE:20250427
DTEND;VALUE=DATE:20250428
DTSTAMP:20260422T012914
CREATED:20250223T155045Z
LAST-MODIFIED:20250223T155045Z
UID:6886-1745712000-1745798399@okinawa-te.info
SUMMARY:Midwest Warrior Challenge
DESCRIPTION:Donate Crypto-currency \n			\n			\n			\n\n			\n			\n			\n			\n			\n			Wallet address of bitcoin\n			13JDhP1YScpJosCbkXwWUeS
URL:https://okinawa-te.info/event/midwest-warrior-challenge/
LOCATION:Aurora Turners Gymnasium\, 1335 Mitchell Road\, Aurora\, 60505\, United States
ORGANIZER;CN="Jorge Isaac":MAILTO:mikewwjdmike@aol.com
END:VEVENT
BEGIN:VEVENT
DTSTART;VALUE=DATE:20250426
DTEND;VALUE=DATE:20250427
DTSTAMP:20260422T012914
CREATED:20250223T162448Z
LAST-MODIFIED:20250223T162448Z
UID:6895-1745625600-1745711999@okinawa-te.info
SUMMARY:Colorado Springs Festival
DESCRIPTION:Donate Crypto-currency \n			\n			\n			\n\n			\n			\n			\n			\n			\n			Wallet address of bitcoin\n			13JDhP1YScpJosCbkXwWUeS
URL:https://okinawa-te.info/event/colorado-springs-festival/
LOCATION:VA
END:VEVENT
BEGIN:VEVENT
DTSTART;VALUE=DATE:20250406
DTEND;VALUE=DATE:20250407
DTSTAMP:20260422T012914
CREATED:20250220T172853Z
LAST-MODIFIED:20250220T172853Z
UID:6869-1743897600-1743983999@okinawa-te.info
SUMMARY:Michigan Traditional Karate Tournament
DESCRIPTION:Donate Crypto-currency \n			\n			\n			\n\n			\n			\n			\n			\n			\n			Wallet address of bitcoin\n			13JDhP1YScpJosCbkXwWUeS
URL:https://okinawa-te.info/event/michigan-traditional-karate-tournament/
LOCATION:Garden City Middle School\, 1851 Radcliff Street\, Garden City\, MI\, 48135\, United States
ORGANIZER;CN="Tony Valvona":MAILTO:tony@karatemi.com
END:VEVENT
BEGIN:VEVENT
DTSTART;VALUE=DATE:20250330
DTEND;VALUE=DATE:20250331
DTSTAMP:20260422T012914
CREATED:20250223T154745Z
LAST-MODIFIED:20250223T155132Z
UID:6884-1743292800-1743379199@okinawa-te.info
SUMMARY:Dojo Warrior Tournament
DESCRIPTION:Donate Crypto-currency \n			\n			\n			\n\n			\n			\n			\n			\n			\n			Wallet address of bitcoin\n			13JDhP1YScpJosCbkXwWUeS
URL:https://okinawa-te.info/event/dojo-warrior-tournament/
LOCATION:Aurora Turners Gymnasium\, 1335 Mitchell Road\, Aurora\, 60505\, United States
ORGANIZER;CN="Scott Francis":MAILTO:scottfrancis@dojodynamics.com
END:VEVENT
BEGIN:VEVENT
DTSTART;VALUE=DATE:20250322
DTEND;VALUE=DATE:20250323
DTSTAMP:20260422T012914
CREATED:20250223T162220Z
LAST-MODIFIED:20250223T162302Z
UID:6891-1742601600-1742687999@okinawa-te.info
SUMMARY:2025 CKA Martial Arts Open
DESCRIPTION:Donate Crypto-currency \n			\n			\n			\n\n			\n			\n			\n			\n			\n			Wallet address of bitcoin\n			13JDhP1YScpJosCbkXwWUeS
URL:https://okinawa-te.info/event/2025-cka-martial-arts-open/
LOCATION:NOCO Sports Center\, 5699 Crooked Stick Deive\, Windsor\, CO\, 80550\, United States
END:VEVENT
BEGIN:VEVENT
DTSTART;VALUE=DATE:20250322
DTEND;VALUE=DATE:20250323
DTSTAMP:20260422T012914
CREATED:20250220T181607Z
LAST-MODIFIED:20250220T181607Z
UID:6874-1742601600-1742687999@okinawa-te.info
SUMMARY:Karate Wars 6
DESCRIPTION:Donate Crypto-currency \n			\n			\n			\n\n			\n			\n			\n			\n			\n			Wallet address of bitcoin\n			13JDhP1YScpJosCbkXwWUeS
URL:https://okinawa-te.info/event/karate-wars-6/
LOCATION:Berkeley 2000 Recreation Center\, 273 Woodbury Ave\, Martinsburg\, WV\, 25404\, United States
ORGANIZER;CN="Elite Martial Arts & MMA":MAILTO:elitemmainstitute@yahoo.com
END:VEVENT
BEGIN:VEVENT
DTSTART;VALUE=DATE:20250322
DTEND;VALUE=DATE:20250323
DTSTAMP:20260422T012914
CREATED:20250108T172236Z
LAST-MODIFIED:20250309T151344Z
UID:6819-1742601600-1742687999@okinawa-te.info
SUMMARY:Florida State Qualifier
DESCRIPTION:Donate Crypto-currency \n			\n			\n			\n\n			\n			\n			\n			\n			\n			Wallet address of bitcoin\n			13JDhP1YScpJosCbkXwWUeS
URL:https://okinawa-te.info/event/florida-state-qualifier/
LOCATION:Trinity Lutheran Church\, 400 N Swinton Ave\, Delray Beach\, FL\, 33444\, United States
ORGANIZER;CN="USA Sport Karate":MAILTO:info@usasportkarate.com
END:VEVENT
BEGIN:VEVENT
DTSTART;VALUE=DATE:20250315
DTEND;VALUE=DATE:20250316
DTSTAMP:20260422T012914
CREATED:20250125T220301Z
LAST-MODIFIED:20250125T220301Z
UID:6840-1741996800-1742083199@okinawa-te.info
SUMMARY:USKO's 2025 Spring Tournament
DESCRIPTION:Donate Crypto-currency \n			\n			\n			\n\n			\n			\n			\n			\n			\n			Wallet address of bitcoin\n			13JDhP1YScpJosCbkXwWUeS
URL:https://okinawa-te.info/event/uskos-2025-spring-tournament/
LOCATION:St. Catherine of Sienna School Gymnasium\, 2330 Perkiomen Avenue\, Reading\, PA\, 19606\, United States
ORGANIZER;CN="Sensei Tana":MAILTO:senseitana@gmail.com
END:VEVENT
BEGIN:VEVENT
DTSTART;VALUE=DATE:20250223
DTEND;VALUE=DATE:20250224
DTSTAMP:20260422T012914
CREATED:20250220T172212Z
LAST-MODIFIED:20250220T172212Z
UID:6867-1740268800-1740355199@okinawa-te.info
SUMMARY:CKS Open Martial Arts Tournament
DESCRIPTION:Donate Crypto-currency \n			\n			\n			\n\n			\n			\n			\n			\n			\n			Wallet address of bitcoin\n			13JDhP1YScpJosCbkXwWUeS
URL:https://okinawa-te.info/event/cks-open-martial-arts-tournament-3/
LOCATION:Aurora Turners Gymnasium\, 1335 Mitchell Road\, Aurora\, 60505\, United States
ORGANIZER;CN="Rocky's Dojo and Gym":MAILTO:rockysdojoandgym@att.net
END:VEVENT
BEGIN:VEVENT
DTSTART;VALUE=DATE:20250220
DTEND;VALUE=DATE:20250224
DTSTAMP:20260422T012914
CREATED:20241230T170037Z
LAST-MODIFIED:20241230T170037Z
UID:6746-1740009600-1740355199@okinawa-te.info
SUMMARY:Demura Cup 54th International Goodwill Championship
DESCRIPTION:Donate Crypto-currency \n			\n			\n			\n\n			\n			\n			\n			\n			\n			Wallet address of bitcoin\n			13JDhP1YScpJosCbkXwWUeS
URL:https://okinawa-te.info/event/demura-cup-54th-international-goodwill-championship/
LOCATION:Segerstrom High School\, 2301 W MacArthur Blvd\, Santa Ana\, CA\, 92704\, United States
ORGANIZER;CN="Sensei Thanh Nguyen":MAILTO:info@genbukai,org
END:VEVENT
BEGIN:VEVENT
DTSTART;VALUE=DATE:20250216
DTEND;VALUE=DATE:20250217
DTSTAMP:20260422T012914
CREATED:20250113T201431Z
LAST-MODIFIED:20250113T201431Z
UID:6826-1739664000-1739750399@okinawa-te.info
SUMMARY:Garden State Open
DESCRIPTION:Donate Crypto-currency \n			\n			\n			\n\n			\n			\n			\n			\n			\n			Wallet address of bitcoin\n			13JDhP1YScpJosCbkXwWUeS
URL:https://okinawa-te.info/event/garden-state-open/
LOCATION:Saint Joseph High School\, 145 Plainfield Ave\, Metuchen\, NJ\, 08840\, United States
ORGANIZER;CN="USA Sport Karate":MAILTO:info@usasportkarate.com
END:VEVENT
BEGIN:VEVENT
DTSTART;VALUE=DATE:20250208
DTEND;VALUE=DATE:20250209
DTSTAMP:20260422T012914
CREATED:20250106T184902Z
LAST-MODIFIED:20250106T184902Z
UID:6800-1738972800-1739059199@okinawa-te.info
SUMMARY:2025 Winter Shiai
DESCRIPTION:Donate Crypto-currency \n			\n			\n			\n\n			\n			\n			\n			\n			\n			Wallet address of bitcoin\n			13JDhP1YScpJosCbkXwWUeS
URL:https://okinawa-te.info/event/2025-winter-shiai/
LOCATION:King George Dojo\, 9100 St Anthony's Road\, King George\, VA\, 22485\, United States
ORGANIZER;CN="Kevin Kline":MAILTO:kkline@va.metrocast.net
END:VEVENT
BEGIN:VEVENT
DTSTART;VALUE=DATE:20250201
DTEND;VALUE=DATE:20250202
DTSTAMP:20260422T012914
CREATED:20250103T202419Z
LAST-MODIFIED:20250103T202419Z
UID:6791-1738368000-1738454399@okinawa-te.info
SUMMARY:Mid-Atlantic Challenge
DESCRIPTION:Donate Crypto-currency \n			\n			\n			\n\n			\n			\n			\n			\n			\n			Wallet address of bitcoin\n			13JDhP1YScpJosCbkXwWUeS
URL:https://okinawa-te.info/event/mid-atlantic-challenge/
LOCATION:Sp;it Rock Resort\, 428 Moseywood Road\, Lake Harmony\, PA\, 18624\, United States
ORGANIZER;CN="Kyle and Chuck Reed":MAILTO:themidatlanticchallenge@gmail.com
END:VEVENT
BEGIN:VEVENT
DTSTART;VALUE=DATE:20250126
DTEND;VALUE=DATE:20250127
DTSTAMP:20260422T012914
CREATED:20250113T200337Z
LAST-MODIFIED:20250113T200337Z
UID:6823-1737849600-1737935999@okinawa-te.info
SUMMARY:NJ Martial Arts Invitational Tournament Kickoff Championship
DESCRIPTION:Donate Crypto-currency \n			\n			\n			\n\n			\n			\n			\n			\n			\n			Wallet address of bitcoin\n			13JDhP1YScpJosCbkXwWUeS
URL:https://okinawa-te.info/event/nj-martial-arts-invitational-tournament-kickoff-championship/
LOCATION:Pure MMA\, 41 Pine St.\, Rockaway\, NJ\, 07866\, United States
END:VEVENT
BEGIN:VEVENT
DTSTART;VALUE=DATE:20250126
DTEND;VALUE=DATE:20250127
DTSTAMP:20260422T012914
CREATED:20241130T163548Z
LAST-MODIFIED:20241130T163548Z
UID:6711-1737849600-1737935999@okinawa-te.info
SUMMARY:Illinois State Karate Championships
DESCRIPTION:Donate Crypto-currency \n			\n			\n			\n\n			\n			\n			\n			\n			\n			Wallet address of bitcoin\n			13JDhP1YScpJosCbkXwWUeS
URL:https://okinawa-te.info/event/illinois-state-karate-championships-2/
LOCATION:Aurora Turners Gymnasium\, 1335 Mitchell Road\, Aurora\, 60505\, United States
END:VEVENT
END:VCALENDAR